BEGIN:VCALENDAR
VERSION:2.0
PRODID:-//Plone.org//NONSGML plone.app.event//EN
X-WR-TIMEZONE:Europe/Vienna
BEGIN:VEVENT
SUMMARY:Unsettling Feminist Curating
DTSTART;TZID=Europe/Vienna:20171201T123000
DTEND;TZID=Europe/Vienna:20171201T200000
DTSTAMP:20260423T162012Z
UID:b4591cd4f892641ff20b2573e7990551@www.akbild.ac.at
CATEGORIES:Konferenzen
CREATED:20220312T094516Z
DESCRIPTION:Kuratiert von Elke Krasny\, Barbara Mahlknecht\, Lara Perry\, 
 Dorothee Richter\, Fachbereich Kunst und Bildung/Institut für das künstl
 erische Lehramt IKL an der Akademie der bildenden Künste Wien und\n \n  f
 eminist Curators United fCU.
LAST-MODIFIED:20240919T081314Z
URL:https://www.akbild.ac.at/de/institute/kunstlerisches-lehramt/veranstal
 tungen/konferenzen/2017/unsettling-feminist-curating
END:VEVENT
BEGIN:VTIMEZONE
TZID:Europe/Vienna
X-LIC-LOCATION:Europe/Vienna
BEGIN:STANDARD
DTSTART:20171029T020000
TZNAME:CET
TZOFFSETFROM:+0200
TZOFFSETTO:+0100
END:STANDARD
END:VTIMEZONE
END:VCALENDAR
