BEGIN:VCALENDAR
VERSION:2.0
PRODID:-//Plone.org//NONSGML plone.app.event//EN
X-WR-TIMEZONE:Europe/Vienna
BEGIN:VEVENT
SUMMARY:Movements in feminism / feminisms in movement: urgencies\, emergen
 cies\, promises
DTSTART;VALUE=DATE:20181128
DTEND;VALUE=DATE:20181203
DTSTAMP:20260423T114608Z
UID:79969c34792cecda5e4039d0084e88a2@www.akbild.ac.at
CATEGORIES:Konferenzen
CREATED:20220312T094528Z
DESCRIPTION:A collaboration between the Program Art and Education at the I
 nstitute for Education in the Arts at the Academy of Fine Arts Vienna and 
 Belvedere 21. Supported by Municipal Department 57 – Vienna Women’s Af
 fairs (MA 57)\n\n\n Curated by\n \n  Elke Krasny\n \n \, Professor at the 
 Academy of Fine Arts Vienna and\n \n  Luisa Ziaja\n \n \, Curator for Cont
 emporary Art at Belvedere\, Vienna\; together with\n \n  Lara Perry\n \n \
 , School of Humanities\, University of Brighton and\n \n  Dorothee Richter
 \n \n \, Director of PhD in Practice in Curating at the ZHdK / University 
 of Reading and Head of MAS in Curating at Zurich University of the Arts\n 
 \n  www.curating.org\n \n .\n \n \n Screening program curated by\n \n  Cla
 udia Slanar\n \n \, Curator Blickle Cinema and Blickle Video Archive at Be
 lvedere 21.
LAST-MODIFIED:20240919T081314Z
URL:https://www.akbild.ac.at/de/institute/kunstlerisches-lehramt/veranstal
 tungen/konferenzen/2018/movements-in-feminism-feminisms-in-movement-urgenc
 ies-emergencies-promises
END:VEVENT
END:VCALENDAR
