BEGIN:VCALENDAR
VERSION:2.0
PRODID:-//Plone.org//NONSGML plone.app.event//EN
X-WR-TIMEZONE:Europe/Vienna
BEGIN:VEVENT
SUMMARY:ÜBERSCHREITEN UND ÜBEREIGNEN | Urbane Dramaturgien-\, kuratorisc
 he Praxen\, erweiterte Räume
DTSTART;VALUE=DATE:20211118
DTEND;VALUE=DATE:20211121
DTSTAMP:20260424T103426Z
UID:c353421864e161636b6a429d0a4270a2@www.akbild.ac.at
CATEGORIES:Konferenzen
CREATED:20220312T094608Z
DESCRIPTION:Im Rahmen des von der Deutschen Forschungsgemeinschaft (DFG) g
 eförderten Projektes\n \n  Architektur und Raum für die Aufführungskün
 ste: Entwicklungen seit den 1960er Jahren\n \n . In Kooperation mit brut\,
  gfzk Galerie für Zeitgenössische Kunst Leipzig\, Schauspielhaus Wien.\n
 \n\n Eintritt frei – Anmeldung erforderlich (begrenzte Platzzahl):\n \n 
  www.schauspielhaus.at/konferenz_anmeldung\n \n \n Die Konferenz wird komp
 lett gestreamt werden. (Zoom-Link nach Registrierung)
LAST-MODIFIED:20240919T081314Z
URL:https://www.akbild.ac.at/de/institute/kunstlerisches-lehramt/veranstal
 tungen/konferenzen/2021/ueberschreiten-und-uebereignen-urbane-dramaturgien
 -kuratorische-praxen-erweiterte-raeume
END:VEVENT
END:VCALENDAR
