BEGIN:VCALENDAR
VERSION:2.0
PRODID:-//Plone.org//NONSGML plone.app.event//EN
X-WR-TIMEZONE:Europe/Vienna
BEGIN:VEVENT
SUMMARY:Drawing Otherwise. Imagining Architectures\, Sites\, Places\, Infr
 astructures and Landscapes.
DTSTART;TZID=Europe/Vienna:20241125T100000
DTEND;TZID=Europe/Vienna:20241125T180000
DTSTAMP:20260423T113314Z
UID:a89743c2fec049b789b0c67e2af4353d@www.akbild.ac.at
CATEGORIES:Konferenzen
CREATED:20241028T103024Z
DESCRIPTION:Das Symposium bringt Praktiker_innen\, Theoretiker_innen und W
 issenschaftler_innen aus den Bereichen Architektur\, visuelle Kultur und K
 unsterziehung zusammen und erkundet das Potenzial der Formulierung von Vor
 stellungen\, die auf Solidarität\, Gegenseitigkeit\, Großzügigkeit und 
 Empathie basieren.
LAST-MODIFIED:20241108T135150Z
URL:https://www.akbild.ac.at/de/institute/kunstlerisches-lehramt/veranstal
 tungen/konferenzen/2024/drawing-otherwise
END:VEVENT
BEGIN:VTIMEZONE
TZID:Europe/Vienna
X-LIC-LOCATION:Europe/Vienna
BEGIN:STANDARD
DTSTART:20241027T020000
TZNAME:CET
TZOFFSETFROM:+0200
TZOFFSETTO:+0100
END:STANDARD
END:VTIMEZONE
END:VCALENDAR
