BEGIN:VCALENDAR
VERSION:2.0
PRODID:-//Plone.org//NONSGML plone.app.event//EN
X-WR-TIMEZONE:Europe/Vienna
BEGIN:VEVENT
SUMMARY:Archäometrie und Denkmalpflege 2019
DTSTART;VALUE=DATE:20190911
DTEND;VALUE=DATE:20190915
DTSTAMP:20260423T083456Z
UID:951a3b38ab71178f2f50f175c6c4ea4f@www.akbild.ac.at
CATEGORIES:Konferenzen
CREATED:20220312T100703Z
DESCRIPTION:Die Jahrestagung wird vom Arbeitskreis Archäometrie der Gesel
 lschaft Deutscher Chemiker (GDCh) und dem Institut für Naturwissenschafte
 n und Technologie in der Kunst organisiert.
LAST-MODIFIED:20240802T101921Z
URL:https://www.akbild.ac.at/de/institute/naturwissenschaften-und-technolo
 gie-in-der-kunst/veranstaltungen/konferenzen/2019/archaeometrie-und-denkma
 lpflege-2019
END:VEVENT
END:VCALENDAR
