BEGIN:VCALENDAR
VERSION:2.0
PRODID:-//Plone.org//NONSGML plone.app.event//EN
X-WR-TIMEZONE:Europe/Vienna
BEGIN:VEVENT
SUMMARY:BACK\, NOW\, AND\, THEN 2023. Understanding Dieter Roth’s POeMET
 RIE series & the Age of Plastics
DTSTART;VALUE=DATE:20231012
DTEND;VALUE=DATE:20231014
DTSTAMP:20260419T160639Z
UID:3adbd0f4eff24f0b9f1ad560926ee8cd@www.akbild.ac.at
CATEGORIES:Konferenzen
CREATED:20230905T041842Z
DESCRIPTION:Das zweitägige Symposium findet in Präsenz statt. Die versch
 iedenen Beiträge sollen dabei ein tieferes Verständnis für verschiedene
  Themengebiete vermitteln\, die kunststoff-basierte Kunstwerke mit sich br
 ingen.
LAST-MODIFIED:20250717T080848Z
URL:https://www.akbild.ac.at/de/institute/naturwissenschaften-und-technolo
 gie-in-der-kunst/veranstaltungen/konferenzen/2023/back-now-and-then-2023-u
 nderstanding-dieter-roths-poemetrie-series-the-age-of-plastics
END:VEVENT
END:VCALENDAR
