BEGIN:VCALENDAR
VERSION:2.0
PRODID:-//Plone.org//NONSGML plone.app.event//EN
X-WR-TIMEZONE:Europe/Vienna
BEGIN:VEVENT
SUMMARY:Vom römischen Zement zum Romanzement
DTSTART;TZID=Europe/Vienna:20090625T160000
DTSTAMP:20260424T050011Z
UID:bedfc87e8823101300a8d61629ae4573@www.akbild.ac.at
CATEGORIES:Vorträge / Veranstaltungen
CREATED:20220312T100535Z
DESCRIPTION:Charakterisierung antiker und gründerzeitlicher Mörtel mit M
 ethoden der Mikroskopie.\n \n Vortrag von Univ.Prof. Dr. Johannes Weber vo
 m Institut für Kunst und Technologie\, Universität für Angewandte Kunst
  Wien. Organisiert vom Institut für Naturwissenschaften und Technologie i
 n der Kunst.
LAST-MODIFIED:20240802T101917Z
URL:https://www.akbild.ac.at/de/institute/naturwissenschaften-und-technolo
 gie-in-der-kunst/veranstaltungen/vortrage-events/2009/akbild_event.2009-06
 -19.0211409103
END:VEVENT
BEGIN:VTIMEZONE
TZID:Europe/Vienna
X-LIC-LOCATION:Europe/Vienna
BEGIN:DAYLIGHT
DTSTART:20090329T030000
TZNAME:CEST
TZOFFSETFROM:+0100
TZOFFSETTO:+0200
END:DAYLIGHT
END:VTIMEZONE
END:VCALENDAR
