BEGIN:VCALENDAR
VERSION:2.0
PRODID:-//Plone.org//NONSGML plone.app.event//EN
X-WR-TIMEZONE:Europe/Vienna
BEGIN:VEVENT
SUMMARY:Metallurgy for Cultural Heritage: Capabilities and Case Studies
DTSTART;TZID=Europe/Vienna:20120301T160000
DTSTAMP:20260425T215039Z
UID:0f6c2d663e538a89bce9033a1b08999a@www.akbild.ac.at
CATEGORIES:Vorträge / Veranstaltungen
CREATED:20220312T100554Z
DESCRIPTION:Vortrag von Prof. Dr. Irene Calliari (School of Engineering an
  der Universität von Padua\, Italien)\, organisiert vom Institut für Nat
 urwissenschaften und Technologie in der Kunst. Vortrag in englischer Sprac
 he.
LAST-MODIFIED:20240802T101917Z
URL:https://www.akbild.ac.at/de/institute/naturwissenschaften-und-technolo
 gie-in-der-kunst/veranstaltungen/vortrage-events/2012/akbild_event.2012-02
 -27.2068725106
END:VEVENT
BEGIN:VTIMEZONE
TZID:Europe/Vienna
X-LIC-LOCATION:Europe/Vienna
BEGIN:STANDARD
DTSTART:20111030T020000
TZNAME:CET
TZOFFSETFROM:+0200
TZOFFSETTO:+0100
END:STANDARD
END:VTIMEZONE
END:VCALENDAR
