BEGIN:VCALENDAR
VERSION:2.0
PRODID:-//Plone.org//NONSGML plone.app.event//EN
X-WR-TIMEZONE:Europe/Vienna
BEGIN:VEVENT
SUMMARY:Crystallography for Art: Contribution of X-ray powder diffractomet
 ry
DTSTART;TZID=Europe/Vienna:20161124T160000
DTSTAMP:20260419T162432Z
UID:8750d81320522430de347a30c28a8c91@www.akbild.ac.at
CATEGORIES:Vorträge / Veranstaltungen
CREATED:20220312T100631Z
DESCRIPTION:Vortrag von Dr. Alicja Rafalska-Łasocha und  Prof. Dr. Wies
 ław Łasocha (Faculty of Chemistry Jagiellonian University\, Krakow\, Pol
 and) im Rahmen der ChemArt (Gesellschaft österreichischer Chemiker\, Arbe
 itsgruppe Erforschung und Erhaltung des kulturellen Erbes) organisiert vom
  Institut für Naturwissenschaften und Technologie in der Kunst (Akademie 
 der bildenden Künste Wien) und vom Institut Chemie – Science Visualizat
 ion\, Abt. Archäometrie (Universität für Angewandte Kunst).
LAST-MODIFIED:20240802T101917Z
URL:https://www.akbild.ac.at/de/institute/naturwissenschaften-und-technolo
 gie-in-der-kunst/veranstaltungen/vortrage-events/2016/crystallography-for-
 art-contribution-of-x-ray-powder-diffractometry
END:VEVENT
BEGIN:VTIMEZONE
TZID:Europe/Vienna
X-LIC-LOCATION:Europe/Vienna
BEGIN:STANDARD
DTSTART:20161030T020000
TZNAME:CET
TZOFFSETFROM:+0200
TZOFFSETTO:+0100
END:STANDARD
END:VTIMEZONE
END:VCALENDAR
