BEGIN:VCALENDAR
VERSION:2.0
PRODID:-//Plone.org//NONSGML plone.app.event//EN
X-WR-TIMEZONE:Europe/Vienna
BEGIN:VEVENT
SUMMARY:Von der Wissenschaft zur Kunst und zurück: Untersuchungen zum Far
 bsystem Wilhelm Ostwalds
DTSTART;TZID=Europe/Vienna:20161013T160000
DTSTAMP:20260423T083606Z
UID:3e3650c1d6985b9ffce137e6199c14da@www.akbild.ac.at
CATEGORIES:Vorträge / Veranstaltungen
CREATED:20220312T100626Z
DESCRIPTION:Vortrag von Prof. Dr. Christoph Herm (Hochschule für Bildende
  Künste  Dresden\, Archäometrie und Naturwissenschaftliche Forschung in 
 der  Konservierung / Restaurierung) im Rahmen der ChemArt (Gesellschaft  
 österreichischer Chemiker\, Arbeitsgruppe Erforschung und Erhaltung des  
 kulturellen Erbes) organisiert vom Institut für Naturwissenschaften und  
 Technologie in der Kunst (Akademie der bildenden Künste Wien) und vom  In
 stitut  Chemie – Science Visualization\, Abt. Archäometrie (Universit
 ät  für Angewandte Kunst).
LAST-MODIFIED:20240802T101917Z
URL:https://www.akbild.ac.at/de/institute/naturwissenschaften-und-technolo
 gie-in-der-kunst/veranstaltungen/vortrage-events/2016/von-der-wissenschaft
 -zur-kunst-und-zurueck-untersuchungen-zum-farbsystem-wilhelm-ostwalds
END:VEVENT
BEGIN:VTIMEZONE
TZID:Europe/Vienna
X-LIC-LOCATION:Europe/Vienna
BEGIN:DAYLIGHT
DTSTART:20160327T030000
TZNAME:CEST
TZOFFSETFROM:+0100
TZOFFSETTO:+0200
END:DAYLIGHT
END:VTIMEZONE
END:VCALENDAR
