BEGIN:VCALENDAR
VERSION:2.0
PRODID:-//Plone.org//NONSGML plone.app.event//EN
X-WR-TIMEZONE:Europe/Vienna
BEGIN:VEVENT
SUMMARY:Scientific Study of the Painted Buddha Statues Excavated in Shando
 ng by Multi-Techniques – Conservation and Virtual Restoration
DTSTART;TZID=Europe/Vienna:20170524T140000
DTSTAMP:20260419T150456Z
UID:64675e455f6561baba976156e49a78b7@www.akbild.ac.at
CATEGORIES:Vorträge / Veranstaltungen
CREATED:20220312T100633Z
DESCRIPTION:Vortrag von Prof. Dr. Shuya Wei (Institute of Cultural Heritag
 e and History of Science &amp\; Technology\, University of Science and Tec
 hnology Beijing\, China) im Rahmen der ChemArt (Gesellschaft österreichis
 cher Chemiker\, Arbeitsgruppe Erforschung und Erhaltung des kulturellen Er
 bes) organisiert vom Institut für Naturwissenschaften und Technologie in 
 der Kunst (Akademie der bildenden Künste Wien) und vom Institut  Chemie 
 – Science Visualization\, Abt. Archäometrie (Universität für Angewand
 te Kunst).
LAST-MODIFIED:20240802T101917Z
URL:https://www.akbild.ac.at/de/institute/naturwissenschaften-und-technolo
 gie-in-der-kunst/veranstaltungen/vortrage-events/2017/scientific-study-of-
 the-painted-buddha-statues-excavated-in-shandong-by-multi-techniques-conse
 rvation-and-virtual-restoration
END:VEVENT
BEGIN:VTIMEZONE
TZID:Europe/Vienna
X-LIC-LOCATION:Europe/Vienna
BEGIN:DAYLIGHT
DTSTART:20170326T030000
TZNAME:CEST
TZOFFSETFROM:+0100
TZOFFSETTO:+0200
END:DAYLIGHT
END:VTIMEZONE
END:VCALENDAR
