BEGIN:VCALENDAR
VERSION:2.0
PRODID:-//Plone.org//NONSGML plone.app.event//EN
X-WR-TIMEZONE:Europe/Vienna
BEGIN:VEVENT
SUMMARY:SERS for the analysis of objects of art and archaeology
DTSTART;TZID=Europe/Vienna:20170608T100000
DTSTAMP:20260419T150456Z
UID:be68d6b0e04ef53736de7cfaa319a2e9@www.akbild.ac.at
CATEGORIES:Vorträge / Veranstaltungen
CREATED:20220312T100635Z
DESCRIPTION:Vortrag von Dr. Maria Vega Cañamares (Instituto de Estructura
  de la  Materia\, IEM-CSIC\, Serrano 121\, 28006 Madrid\, Spain) im Rahmen
  der  ChemArt (Gesellschaft österreichischer Chemiker\, Arbeitsgruppe  Er
 forschung und Erhaltung des kulturellen Erbes) organisiert vom  Institut f
 ür Naturwissenschaften und Technologie in der Kunst (Akademie  der bilden
 den Künste Wien) und vom Institut  Chemie – Science  Visualization\, A
 bt. Archäometrie (Universität für Angewandte Kunst).
LAST-MODIFIED:20240802T101917Z
URL:https://www.akbild.ac.at/de/institute/naturwissenschaften-und-technolo
 gie-in-der-kunst/veranstaltungen/vortrage-events/2017/sers-for-the-analysi
 s-of-objects-of-art-and-archaeology
END:VEVENT
BEGIN:VTIMEZONE
TZID:Europe/Vienna
X-LIC-LOCATION:Europe/Vienna
BEGIN:DAYLIGHT
DTSTART:20170326T030000
TZNAME:CEST
TZOFFSETFROM:+0100
TZOFFSETTO:+0200
END:DAYLIGHT
END:VTIMEZONE
END:VCALENDAR
