BEGIN:VCALENDAR
VERSION:2.0
PRODID:-//Plone.org//NONSGML plone.app.event//EN
X-WR-TIMEZONE:Europe/Vienna
BEGIN:VEVENT
SUMMARY:Parchment Degradation: Artificial Ageing Experiments for the Study
  of Medieval Manuscripts
DTSTART;TZID=Europe/Vienna:20180124T173000
DTSTAMP:20260419T160640Z
UID:e91b231c06163f53711e5d4af1abc7bc@www.akbild.ac.at
CATEGORIES:Vorträge / Veranstaltungen
CREATED:20220312T100640Z
DESCRIPTION:Vortrag von Ilaria Paganoni\, MSc.(Università di Bologna\, Sc
 uola di Scienze\, Master Degree Course in Science for the Conservation-Res
 toration of Cultural Heritage) im Rahmen der ChemArt (Gesellschaft österr
 eichischer Chemiker\, Arbeitsgruppe Erforschung und Erhaltung des kulturel
 len Erbes) organisiert vom Institut für Naturwissenschaften und Technolog
 ie in der Kunst (Akademie der bildenden Künste Wien) und vom Institut  C
 hemie – Science Visualization\, Abt. Archäometrie (Universität für An
 gewandte Kunst).
LAST-MODIFIED:20240802T101917Z
URL:https://www.akbild.ac.at/de/institute/naturwissenschaften-und-technolo
 gie-in-der-kunst/veranstaltungen/vortrage-events/2018/parchment-degradatio
 n-artificial-ageing-experiments-for-the-study-of-medieval-manuscripts
END:VEVENT
BEGIN:VTIMEZONE
TZID:Europe/Vienna
X-LIC-LOCATION:Europe/Vienna
BEGIN:STANDARD
DTSTART:20171029T020000
TZNAME:CET
TZOFFSETFROM:+0200
TZOFFSETTO:+0100
END:STANDARD
END:VTIMEZONE
END:VCALENDAR
