BEGIN:VCALENDAR
VERSION:2.0
PRODID:-//Plone.org//NONSGML plone.app.event//EN
X-WR-TIMEZONE:Europe/Vienna
BEGIN:VEVENT
SUMMARY:Denkmalgespräch am Donnerstag
DTSTART;TZID=Europe/Vienna:20220623T180000
DTSTAMP:20260419T160641Z
UID:0af35d54bf7a4505bb00861ecd848da1@www.akbild.ac.at
CATEGORIES:Vorträge / Veranstaltungen
CREATED:20220613T113637Z
DESCRIPTION:Andreas Lehne im Gespräch mit Katja Sterflinger
LAST-MODIFIED:20240802T101917Z
URL:https://www.akbild.ac.at/de/institute/naturwissenschaften-und-technolo
 gie-in-der-kunst/veranstaltungen/vortrage-events/2022-1/2022
END:VEVENT
BEGIN:VTIMEZONE
TZID:Europe/Vienna
X-LIC-LOCATION:Europe/Vienna
BEGIN:DAYLIGHT
DTSTART:20220327T030000
TZNAME:CEST
TZOFFSETFROM:+0100
TZOFFSETTO:+0200
END:DAYLIGHT
END:VTIMEZONE
END:VCALENDAR
