BEGIN:VCALENDAR
VERSION:2.0
PRODID:-//Plone.org//NONSGML plone.app.event//EN
X-WR-TIMEZONE:Europe/Vienna
BEGIN:VEVENT
SUMMARY:Troubling Research. Performing Knowledge in the Arts
DTSTART;TZID=Europe/Vienna:20111124T190000
DTSTAMP:20260423T084757Z
UID:67c0dcc8931fd5ab39fde299affa781b@www.akbild.ac.at
CREATED:20220312T112256Z
DESCRIPTION:Eine Ausstellung als Teil eines transdiziplinären Forschungsp
 rojekts gefördert durch den WWTF im Rahmen des Art(s)&amp\;Sciences-Call\
 ; 2009\n \n Öffnungszeiten: Di – So 10.00 – 18.00 Uhr\, geschlossen 2
 4. und 25.12.2011 / geöffnet 26.12.2011
LAST-MODIFIED:20240802T102238Z
URL:https://www.akbild.ac.at/de/museum-und-ausstellungen/Exhibit/ausstellu
 ngen-veranstaltungen/aktuelle-ausstellungen/2011/akbild_event.2011-11-08.4
 362169290/SubEvent
END:VEVENT
BEGIN:VTIMEZONE
TZID:Europe/Vienna
X-LIC-LOCATION:Europe/Vienna
BEGIN:STANDARD
DTSTART:20111030T020000
TZNAME:CET
TZOFFSETFROM:+0200
TZOFFSETTO:+0100
END:STANDARD
END:VTIMEZONE
END:VCALENDAR
