BEGIN:VCALENDAR
VERSION:2.0
PRODID:-//Plone.org//NONSGML plone.app.event//EN
X-WR-TIMEZONE:Europe/Vienna
BEGIN:VEVENT
SUMMARY:Rosa Arbeit auf goldener Straße
DTSTART;TZID=Europe/Vienna:20121109T193000
DTSTAMP:20260422T223000Z
UID:5cfcd641ac98be19506adb5fcd9b21ac@www.akbild.ac.at
CREATED:20220312T112346Z
DESCRIPTION:Öffnungszeiten: Di-So 10.00-18.00 h\, Eintritt frei\n \n Gesc
 hlossen am 25.12.2012 + 01.01.2013\,\n \n geöffnet am 26. + 31.12.2012\n 
 \n \n Öffnungszeiten während des Rundganges:\n \n Do\, 24.01.2013\, 10.0
 0–20.00 h\n \n Fr\, 25.01.2013\, 10.00–20.00 h\n \n Sa\, 26.01.2013\, 
 10.00–20.00 h\n \n So\, 27.01.2013\, 10.00–18.00 h\n \n \n Künstler_i
 nnen: Pauline Boudry/Renate Lorenz\, Kaucyila Brooke\,\n \n Katrina Daschn
 er\, Anna Daucikova\, Vaginal Davis/Damiana Garcia\, Justine Frank\, Julia
 n Göthe\, Nilbar Güres\, Stefan Hayn\, Katarzyna Kozyra\, Mateusz Lesman
 \, Ulrike Müller\, Rosa von Praunheim\,\n \n Karol Radziszewski\, Roee Ro
 sen\, Hans Scheirl\, Toni Schmale\, Stefanie Seibold\, Tejal Shah\, Viktor
 ia Tremmel\, David Zeller\n \n \n Kurator_innen: Christiane Erharter und D
 ietmar Schwärzler\n \n Ausstellungsarchitektur: Robert Vörös
LAST-MODIFIED:20240802T102234Z
URL:https://www.akbild.ac.at/de/museum-und-ausstellungen/Exhibit/ausstellu
 ngen-veranstaltungen/aktuelle-ausstellungen/2012/copy_of_akbild_event.2012
 -10-14.8748579406/SubEvent
END:VEVENT
BEGIN:VTIMEZONE
TZID:Europe/Vienna
X-LIC-LOCATION:Europe/Vienna
BEGIN:STANDARD
DTSTART:20121028T020000
TZNAME:CET
TZOFFSETFROM:+0200
TZOFFSETTO:+0100
END:STANDARD
END:VTIMEZONE
END:VCALENDAR
