BEGIN:VCALENDAR
VERSION:2.0
PRODID:-//Plone.org//NONSGML plone.app.event//EN
X-WR-TIMEZONE:Europe/Vienna
BEGIN:VEVENT
SUMMARY:xposit / eins vierzehn. Die Alumni-Ausstellungsreihe der Akademie 
 der bildenden Künste Wien
DTSTART;TZID=Europe/Vienna:20140404T130000
DTEND;TZID=Europe/Vienna:20140404T150000
DTSTAMP:20260422T040611Z
UID:216f23b1237cc3d14783430f63dbb9ae@www.akbild.ac.at
CREATED:20220312T112612Z
LAST-MODIFIED:20240802T102231Z
URL:https://www.akbild.ac.at/de/museum-und-ausstellungen/Exhibit/ausstellu
 ngen-veranstaltungen/aktuelle-ausstellungen/2014/akbild_event.2014-02-27.8
 012594136/SubEvent
END:VEVENT
BEGIN:VTIMEZONE
TZID:Europe/Vienna
X-LIC-LOCATION:Europe/Vienna
BEGIN:DAYLIGHT
DTSTART:20140330T030000
TZNAME:CEST
TZOFFSETFROM:+0100
TZOFFSETTO:+0200
END:DAYLIGHT
END:VTIMEZONE
END:VCALENDAR
