BEGIN:VCALENDAR
VERSION:2.0
PRODID:-//Plone.org//NONSGML plone.app.event//EN
X-WR-TIMEZONE:Europe/Vienna
BEGIN:VEVENT
SUMMARY:Aufgerissenen Auges: Transmanieristische Reaktionen
DTSTART;TZID=Europe/Vienna:20151119T190000
DTSTAMP:20260421T160802Z
UID:bf5d094e8fb35cdfa36b64c0e05cd7fa@www.akbild.ac.at
CREATED:20220312T112649Z
DESCRIPTION:Öffnungszeiten: Di–So\, 10.00–18.00 h\, Eintritt frei\n \
 n Sonderöffnungszeiten: Geöffnet am 08.+26.12.2015 sowie am 06.01.2016 /
  10.00–18.00 h\n \n Geschlossen am 24.+25.12.2015 sowie am 01.01.2016
LAST-MODIFIED:20240802T102231Z
URL:https://www.akbild.ac.at/de/museum-und-ausstellungen/Exhibit/ausstellu
 ngen-veranstaltungen/aktuelle-ausstellungen/2015/aufgerissenen-auges-trans
 manieristische-reaktionen-1/SubEvent
END:VEVENT
BEGIN:VTIMEZONE
TZID:Europe/Vienna
X-LIC-LOCATION:Europe/Vienna
BEGIN:STANDARD
DTSTART:20151025T020000
TZNAME:CET
TZOFFSETFROM:+0200
TZOFFSETTO:+0100
END:STANDARD
END:VTIMEZONE
END:VCALENDAR
