BEGIN:VCALENDAR
VERSION:2.0
PRODID:-//Plone.org//NONSGML plone.app.event//EN
X-WR-TIMEZONE:Europe/Vienna
BEGIN:VEVENT
SUMMARY:xposit / eins fünfzehn. Die Alumni-Ausstellungsreihe der Akademie
  der bildenden Künste Wien
DTSTART;TZID=Europe/Vienna:20150528T130000
DTEND;TZID=Europe/Vienna:20150528T160000
DTSTAMP:20260425T175855Z
UID:c93f7bb86bfd545a43e6c150b936aceb@www.akbild.ac.at
CATEGORIES:Ausstellungen
CREATED:20220312T112656Z
DESCRIPTION:Mit der Alumni-Ausstellungsreihe xposit werden jedes Semester 
  Arbeiten von Absolvent_innen auf Empfehlung von Professor_innen der  Akad
 emie in den Rektoraten vorgestellt.
LAST-MODIFIED:20240802T102231Z
URL:https://www.akbild.ac.at/de/museum-und-ausstellungen/Exhibit/ausstellu
 ngen-veranstaltungen/aktuelle-ausstellungen/2015/xposit-1_15
END:VEVENT
BEGIN:VTIMEZONE
TZID:Europe/Vienna
X-LIC-LOCATION:Europe/Vienna
BEGIN:DAYLIGHT
DTSTART:20150329T030000
TZNAME:CEST
TZOFFSETFROM:+0100
TZOFFSETTO:+0200
END:DAYLIGHT
END:VTIMEZONE
END:VCALENDAR
