BEGIN:VCALENDAR
VERSION:2.0
PRODID:-//Plone.org//NONSGML plone.app.event//EN
X-WR-TIMEZONE:Europe/Vienna
BEGIN:VEVENT
SUMMARY:Spezialschule für Bildhauerei
DTSTART;TZID=Europe/Vienna:20191213T170000
DTSTAMP:20260423T133005Z
UID:6b04b3f1bda0901c6e90e6a518ee16f3@www.akbild.ac.at
CREATED:20220312T112955Z
DESCRIPTION:13.12.\, 17.00 h\n  \n  \n   Kurator_innenführung: Spezialsch
 ule für Bildhauerei\n  \n  \n  Öffnungszeiten:\n \n Di–Fr\, 11.00–18
 .00 h\, Sa: 11.00–15.00 h\, So\, Mo und an Feiertagen: geschlossen\, Ein
 tritt frei\n\n\n \n  Eine Ausstellung auf Einladung von:\n \n Simone Bader
 \, Jannik Franzen\, Katharina Hölzl\, Pille-Riin Jaik\, Ma Jia\, Jakob Kr
 ameritsch\, Emanuel Mauthe\, Florian Mayr\, Jelena Micić\, Bianca Phos\, 
 Heimo Zobernig\n\n\n \n  Mit Beiträgen von:\n \n Steffi Alte\, AQUARIUM A
 rchive\, Berhanu Ashagrie\, Simone Bader\, Tina Bepperling\, Josef Daberni
 g\, Jannik Franzen\, Valerie Habsburg\, Pille-Riin Jaik\, Ma Jia\, Leopold
  Kessler\, Elisabeth Kihlström\, Roland Kollnitz\, Lone Haugaard Madsen\,
  Florian Mayr\, Sabelo Mlangeni\, Christian Mühlbauer\, Noële Ody\, Bian
 ca Phos\, Marion Porten\, Liesl Raff\, Samuel Seger\, Eva Seiler\, Werner 
 Würtinger\, Heimo Zobernig
LAST-MODIFIED:20240802T102227Z
URL:https://www.akbild.ac.at/de/museum-und-ausstellungen/Exhibit/ausstellu
 ngen-veranstaltungen/aktuelle-ausstellungen/2019/spezialschule-fuer-bildha
 uerei-arbeitstitel/SubEvent
END:VEVENT
BEGIN:VTIMEZONE
TZID:Europe/Vienna
X-LIC-LOCATION:Europe/Vienna
BEGIN:STANDARD
DTSTART:20191027T020000
TZNAME:CET
TZOFFSETFROM:+0200
TZOFFSETTO:+0100
END:STANDARD
END:VTIMEZONE
END:VCALENDAR
