BEGIN:VCALENDAR
VERSION:2.0
PRODID:-//Plone.org//NONSGML plone.app.event//EN
X-WR-TIMEZONE:Europe/Vienna
BEGIN:VEVENT
SUMMARY:The Poiesis of Composting
DTSTART;VALUE=DATE:20210212
DTEND;VALUE=DATE:20211010
DTSTAMP:20260423T140209Z
UID:38605c62c2ddb7a23a17ba7af1542134@www.akbild.ac.at
CATEGORIES:Ausstellungen
CREATED:20220312T113142Z
DESCRIPTION:Kurator_innen: Guilherme Maggessi\, Rafał Morusiewicz\n  \n  
 Künstler_innen: Gleb Amankulov\, Valerie Ludwig\, Tabea Marschall\, Mzamo
  Nondlwana\, Abiona Esther Ojo\, Danielle Pamp\, Laura Sperl\, Miriam Ston
 ey und Selina Shirin Stritzel sowie mit Gastbeiträgen von Rebecca Jane Ar
 thur\, Cana Bilir-Meier\, Masha Godovannaya\, Kollektiv Sprachwechsel\, Ly
 dia Nsiah\, Anna Spanlang u.v.m.
LAST-MODIFIED:20240802T102223Z
URL:https://www.akbild.ac.at/de/museum-und-ausstellungen/Exhibit/ausstellu
 ngen-veranstaltungen/aktuelle-ausstellungen/2021/the-poiesis-of-composting
END:VEVENT
END:VCALENDAR
