BEGIN:VCALENDAR
VERSION:2.0
PRODID:-//Plone.org//NONSGML plone.app.event//EN
X-WR-TIMEZONE:Europe/Vienna
BEGIN:VEVENT
SUMMARY:Finissage [em]Die Menge der Dinge[/em]
DTSTART;TZID=Europe/Vienna:20221207T170000
DTEND;TZID=Europe/Vienna:20221207T220000
DTSTAMP:20260423T171807Z
UID:bb4141dc680a43d9b7fa3721dc81b8d4@www.akbild.ac.at
CATEGORIES:Vorträge / Veranstaltungen
CREATED:20221025T151445Z
DESCRIPTION:Im Rahmen einer Lehrveranstaltung im Fachbereich Szenografie e
 ntwickelten Lehrende und Studierende der Akademie der bildenden Künste Wi
 en gemeinsam eine Methodologie zur Inventarisierung des eigenen Kleidersc
 hranks. Durch die gemeinsam installierten Objekte entwickelt sich der Auss
 tellungsraum des Exhibit Eschenbachgasse zu einem temporären Kleiderschra
 nk.
LAST-MODIFIED:20240802T102223Z
URL:https://www.akbild.ac.at/de/museum-und-ausstellungen/Exhibit/ausstellu
 ngen-veranstaltungen/aktuelle-ausstellungen/2022/die-menge-der-dinge/exhib
 it-eschenbachgasse-finissage-die-menge-der-dinge
END:VEVENT
BEGIN:VTIMEZONE
TZID:Europe/Vienna
X-LIC-LOCATION:Europe/Vienna
BEGIN:STANDARD
DTSTART:20221030T020000
TZNAME:CET
TZOFFSETFROM:+0200
TZOFFSETTO:+0100
END:STANDARD
END:VTIMEZONE
END:VCALENDAR
