BEGIN:VCALENDAR
VERSION:2.0
PRODID:-//Plone.org//NONSGML plone.app.event//EN
X-WR-TIMEZONE:Europe/Vienna
BEGIN:VEVENT
SUMMARY:Infrastructural Writing for Troubling Times
DTSTART;TZID=Europe/Vienna:20220405T160000
DTEND;TZID=Europe/Vienna:20220405T180000
DTSTAMP:20260423T101419Z
UID:db8cf61aabaa411da9e43fc69e263002@www.akbild.ac.at
CATEGORIES:Vorträge / Veranstaltungen
CREATED:20220405T044309Z
DESCRIPTION:Im Kontext der Ausstellung Einrichtung und Gegebenheit. Infra
 struktur als Form und Handlung.
LAST-MODIFIED:20240802T102219Z
URL:https://www.akbild.ac.at/de/museum-und-ausstellungen/Exhibit/ausstellu
 ngen-veranstaltungen/aktuelle-ausstellungen/2022/einrichtung-und-gegebenhe
 it-infrastruktur-als-form-und-handlung/infrastructural-writing-for-troubli
 ng-times
END:VEVENT
BEGIN:VTIMEZONE
TZID:Europe/Vienna
X-LIC-LOCATION:Europe/Vienna
BEGIN:DAYLIGHT
DTSTART:20220327T030000
TZNAME:CEST
TZOFFSETFROM:+0100
TZOFFSETTO:+0200
END:DAYLIGHT
END:VTIMEZONE
END:VCALENDAR
