BEGIN:VCALENDAR
VERSION:2.0
PRODID:-//Plone.org//NONSGML plone.app.event//EN
X-WR-TIMEZONE:Europe/Vienna
BEGIN:VEVENT
SUMMARY:Rent
DTSTART;TZID=Europe/Vienna:20220712T200000
DTSTAMP:20260425T230031Z
UID:af5f44b55ba842e2ae448ada461747a1@www.akbild.ac.at
CATEGORIES:Vorträge / Veranstaltungen
CREATED:20220701T162107Z
DESCRIPTION:Katrin Euller/Rent spielt direkt im Ausstellungsraum der Exhib
 it Galerie ein auf das Screening [em][en]Speculative Fiction[/em][/en] ab
 gestimmtes Set.
LAST-MODIFIED:20240802T102219Z
URL:https://www.akbild.ac.at/de/museum-und-ausstellungen/Exhibit/ausstellu
 ngen-veranstaltungen/aktuelle-ausstellungen/2022/speculative-ficition/konz
 ert-rent-katrin-euller
END:VEVENT
BEGIN:VTIMEZONE
TZID:Europe/Vienna
X-LIC-LOCATION:Europe/Vienna
BEGIN:DAYLIGHT
DTSTART:20220327T030000
TZNAME:CEST
TZOFFSETFROM:+0100
TZOFFSETTO:+0200
END:DAYLIGHT
END:VTIMEZONE
END:VCALENDAR
