BEGIN:VCALENDAR
VERSION:2.0
PRODID:-//Plone.org//NONSGML plone.app.event//EN
X-WR-TIMEZONE:Europe/Vienna
BEGIN:VEVENT
SUMMARY:[en]INTRA! INTRA! Towards an INTRA SPACE[/en]
DTSTART;TZID=Europe/Vienna:20220524T170000
DTSTAMP:20260421T124145Z
UID:d78fdd705f3d451d8f250e7f5535cbd4@www.akbild.ac.at
CATEGORIES:Vorträge / Veranstaltungen
CREATED:20220406T081555Z
DESCRIPTION:Präsentation des von Christina Jauernik und Wolfgang Tschapel
 ler herausgegebenen Bandes [en][em]INTRA! INTRA! Towards an INTRA SPACE[/e
 n][/em] der Publikationsreihe der Akademie der bildenden Künste Wien mit 
 einführenden Worten von Rektor Johan F. Hartle.
LAST-MODIFIED:20240802T102219Z
URL:https://www.akbild.ac.at/de/museum-und-ausstellungen/Exhibit/ausstellu
 ngen-veranstaltungen/aktuelle-ausstellungen/2022/spheres-and-cones/book-pr
 esentation-intra-intra
END:VEVENT
BEGIN:VTIMEZONE
TZID:Europe/Vienna
X-LIC-LOCATION:Europe/Vienna
BEGIN:DAYLIGHT
DTSTART:20220327T030000
TZNAME:CEST
TZOFFSETFROM:+0100
TZOFFSETTO:+0200
END:DAYLIGHT
END:VTIMEZONE
END:VCALENDAR
