BEGIN:VCALENDAR
VERSION:2.0
PRODID:-//Plone.org//NONSGML plone.app.event//EN
X-WR-TIMEZONE:Europe/Vienna
BEGIN:VEVENT
SUMMARY:Performative Setzungen zur Erbse
DTSTART;TZID=Europe/Vienna:20220525T160000
DTEND;TZID=Europe/Vienna:20220525T180000
DTSTAMP:20260423T140221Z
UID:2b0e8973698e413daecee00016ef6cc4@www.akbild.ac.at
CATEGORIES:Vorträge / Veranstaltungen
CREATED:20220428T081409Z
DESCRIPTION:Bewegung Schreiben Forschung
LAST-MODIFIED:20240802T102219Z
URL:https://www.akbild.ac.at/de/museum-und-ausstellungen/Exhibit/ausstellu
 ngen-veranstaltungen/aktuelle-ausstellungen/2022/spheres-and-cones/perform
 ative-setzungen-zur-erbse
END:VEVENT
BEGIN:VTIMEZONE
TZID:Europe/Vienna
X-LIC-LOCATION:Europe/Vienna
BEGIN:DAYLIGHT
DTSTART:20220327T030000
TZNAME:CEST
TZOFFSETFROM:+0100
TZOFFSETTO:+0200
END:DAYLIGHT
END:VTIMEZONE
END:VCALENDAR
