BEGIN:VCALENDAR
VERSION:2.0
PRODID:-//Plone.org//NONSGML plone.app.event//EN
X-WR-TIMEZONE:Europe/Vienna
BEGIN:VEVENT
SUMMARY:Plant Media Reading Group
DTSTART;TZID=Europe/Vienna:20220519T130000
DTEND;TZID=Europe/Vienna:20220519T140000
DTSTAMP:20260423T140222Z
UID:a2f7979583f346aaa499c351782c52f3@www.akbild.ac.at
CATEGORIES:Vorträge / Veranstaltungen
CREATED:20220406T081432Z
DESCRIPTION:[en][em]Plant Media Reading Group[/en][/em] ist ein zweiwöche
 ntliches Zusammentreffen von Denker_innen und Praktiker_innen aus verschie
 denen Disziplinen (Architektur\, Philosophie\, Filmwissenschaft\, Literatu
 rwissenschaft\, Anthropologie\, Medientheorie)\, initiiert von Vicki Kirby
 \, Tom Lamarre\, Christina Jauernik und Fabian Puttinger.
LAST-MODIFIED:20240802T102219Z
URL:https://www.akbild.ac.at/de/museum-und-ausstellungen/Exhibit/ausstellu
 ngen-veranstaltungen/aktuelle-ausstellungen/2022/spheres-and-cones/plant-m
 edia-group-reading
END:VEVENT
BEGIN:VTIMEZONE
TZID:Europe/Vienna
X-LIC-LOCATION:Europe/Vienna
BEGIN:DAYLIGHT
DTSTART:20220327T030000
TZNAME:CEST
TZOFFSETFROM:+0100
TZOFFSETTO:+0200
END:DAYLIGHT
END:VTIMEZONE
END:VCALENDAR
