BEGIN:VCALENDAR
VERSION:2.0
PRODID:-//Plone.org//NONSGML plone.app.event//EN
X-WR-TIMEZONE:Europe/Vienna
BEGIN:VEVENT
SUMMARY:Taking up Space with Sound
DTSTART;TZID=Europe/Vienna:20220520T100000
DTEND;TZID=Europe/Vienna:20220520T113000
DTSTAMP:20260423T153756Z
UID:dd502a326a0046f58ff0bdb58247942b@www.akbild.ac.at
CATEGORIES:Vorträge / Veranstaltungen
CREATED:20220428T075712Z
DESCRIPTION:[em][en]Soundshop[/em][/en] mit Christina Gruber und Natalia 
 Domínguez Rangel
LAST-MODIFIED:20240802T102219Z
URL:https://www.akbild.ac.at/de/museum-und-ausstellungen/Exhibit/ausstellu
 ngen-veranstaltungen/aktuelle-ausstellungen/2022/spheres-and-cones/taking-
 up-space-with-sound
END:VEVENT
BEGIN:VTIMEZONE
TZID:Europe/Vienna
X-LIC-LOCATION:Europe/Vienna
BEGIN:DAYLIGHT
DTSTART:20220327T030000
TZNAME:CEST
TZOFFSETFROM:+0100
TZOFFSETTO:+0200
END:DAYLIGHT
END:VTIMEZONE
END:VCALENDAR
