BEGIN:VCALENDAR
VERSION:2.0
PRODID:-//Plone.org//NONSGML plone.app.event//EN
X-WR-TIMEZONE:Europe/Vienna
BEGIN:VEVENT
SUMMARY:Eröffnung: Exhibit - diverse Ausstellungspraxen
DTSTART;TZID=Europe/Vienna:20240905T180000
DTEND;TZID=Europe/Vienna:20240905T220000
DTSTAMP:20260424T183843Z
UID:48f9707c616048428a1711e8c351f339@www.akbild.ac.at
CATEGORIES:Vorträge / Veranstaltungen
CREATED:20240806T095309Z
DESCRIPTION:Kuratiert von Ingeborg Erhart und Sofie Mathoi
LAST-MODIFIED:20250717T090618Z
URL:https://www.akbild.ac.at/de/museum-und-ausstellungen/Exhibit/ausstellu
 ngen-veranstaltungen/aktuelle-ausstellungen/2024/exhibit-diverse-ausstellu
 ngspraxen/eroeffnung-exhibit-diverse-ausstellungspraxen
END:VEVENT
BEGIN:VTIMEZONE
TZID:Europe/Vienna
X-LIC-LOCATION:Europe/Vienna
BEGIN:DAYLIGHT
DTSTART:20240331T030000
TZNAME:CEST
TZOFFSETFROM:+0100
TZOFFSETTO:+0200
END:DAYLIGHT
END:VTIMEZONE
END:VCALENDAR
