BEGIN:VCALENDAR
VERSION:2.0
PRODID:-//Plone.org//NONSGML plone.app.event//EN
X-WR-TIMEZONE:Europe/Vienna
BEGIN:VEVENT
SUMMARY:Steffi Alte und Studierende: Ein Gespräch zur „demoraum K“ In
 stallation
DTSTART;TZID=Europe/Vienna:20241009T180000
DTEND;TZID=Europe/Vienna:20241009T200000
DTSTAMP:20260421T192016Z
UID:f458714a77c04fdf8d24624b1c51a256@www.akbild.ac.at
CATEGORIES:Vorträge / Veranstaltungen
CREATED:20240923T140726Z
DESCRIPTION:Ausgangspunkt des Gesprächs sind die Arbeiten von Studierende
 n in drei von der Künstlerin und Lehrenden Steffi Alte gestalteten mobile
 n Architekturen\, dem sogenannten „demoraum K“\, die sich in der Ausst
 ellung befinden.
LAST-MODIFIED:20240924T105459Z
URL:https://www.akbild.ac.at/de/museum-und-ausstellungen/Exhibit/ausstellu
 ngen-veranstaltungen/aktuelle-ausstellungen/2024/exhibit-diverse-ausstellu
 ngspraxen/steffi-alte-und-studierende-ein-gespraech-zur-demoraum-k-install
 ation
END:VEVENT
BEGIN:VTIMEZONE
TZID:Europe/Vienna
X-LIC-LOCATION:Europe/Vienna
BEGIN:DAYLIGHT
DTSTART:20240331T030000
TZNAME:CEST
TZOFFSETFROM:+0100
TZOFFSETTO:+0200
END:DAYLIGHT
END:VTIMEZONE
END:VCALENDAR
