BEGIN:VCALENDAR
VERSION:2.0
PRODID:-//Plone.org//NONSGML plone.app.event//EN
X-WR-TIMEZONE:Europe/Vienna
BEGIN:VEVENT
SUMMARY:Bücher- und Leseort: Hopscotch Reading Room
DTSTART;TZID=Europe/Vienna:20240524T183000
DTSTAMP:20260423T171835Z
UID:69f43b9dd00249fb9fb52e25689ad577@www.akbild.ac.at
CATEGORIES:Vorträge / Veranstaltungen
CREATED:20240422T110648Z
DESCRIPTION:Buchhandlung\, Diskursplattform\, Politikum\, Gemeinschaftsrau
 m: Der Hopscotch Reading Room ist der erste Bücher- und Leseort im deutsc
 hsprachigen Raum der als intersektionaler Raum der Sichtbarmachung von Gru
 ppen die kein Sprechrecht haben\, Diasporagemeinschaften\, Migrant_innenli
 teratur und unverlegten politischen und poetischen Gedanken ins Sein verhi
 lft.
LAST-MODIFIED:20240802T102212Z
URL:https://www.akbild.ac.at/de/museum-und-ausstellungen/Exhibit/ausstellu
 ngen-veranstaltungen/aktuelle-ausstellungen/2024/soundscapes-of-intersecti
 onal-encounters-1/buecher-und-leseort-hopscotch-reading-room
END:VEVENT
BEGIN:VTIMEZONE
TZID:Europe/Vienna
X-LIC-LOCATION:Europe/Vienna
BEGIN:DAYLIGHT
DTSTART:20240331T030000
TZNAME:CEST
TZOFFSETFROM:+0100
TZOFFSETTO:+0200
END:DAYLIGHT
END:VTIMEZONE
END:VCALENDAR
