BEGIN:VCALENDAR
VERSION:2.0
PRODID:-//Plone.org//NONSGML plone.app.event//EN
X-WR-TIMEZONE:Europe/Vienna
BEGIN:VEVENT
SUMMARY:Can you speak Emotions? Kuratorinnenführung mit Studierenden
DTSTART;TZID=Europe/Vienna:20240524T170000
DTSTAMP:20260423T202311Z
UID:b1983fe10a0f4b779c111b4053e17f44@www.akbild.ac.at
CATEGORIES:Vorträge / Veranstaltungen
CREATED:20240422T104848Z
DESCRIPTION:Wir schaffen täglich Raum für Kommunikation\, hier lernen\, 
 verlernen und lernen wir neu. In der Lehrveranstaltung\, die Teil des Auss
 tellungsprojekts Soundscapes of Intersectional Encounters: Exploring Ident
 ity Through Sound ist\, versuchen wir Sichtbarkeit von dekolonialem Denken
 \, Antirassismus\, Emotionen und generationenübergreifenden Perspektiven 
 zu schaffen.
LAST-MODIFIED:20240802T102212Z
URL:https://www.akbild.ac.at/de/museum-und-ausstellungen/Exhibit/ausstellu
 ngen-veranstaltungen/aktuelle-ausstellungen/2024/soundscapes-of-intersecti
 onal-encounters-1/can-you-speak-emotions-kuratorinnenfuehrung-mit-studiere
 nden
END:VEVENT
BEGIN:VTIMEZONE
TZID:Europe/Vienna
X-LIC-LOCATION:Europe/Vienna
BEGIN:DAYLIGHT
DTSTART:20240331T030000
TZNAME:CEST
TZOFFSETFROM:+0100
TZOFFSETTO:+0200
END:DAYLIGHT
END:VTIMEZONE
END:VCALENDAR
