BEGIN:VCALENDAR
VERSION:2.0
PRODID:-//Plone.org//NONSGML plone.app.event//EN
X-WR-TIMEZONE:Europe/Vienna
BEGIN:VEVENT
SUMMARY:(Abgesagt) Simon Inou X Course Participants
DTSTART;TZID=Europe/Vienna:20240523T160000
DTEND;TZID=Europe/Vienna:20240523T173000
DTSTAMP:20260423T202312Z
UID:8d829750f0a3479e9ecf0a77f508cc30@www.akbild.ac.at
CATEGORIES:Vorträge / Veranstaltungen
CREATED:20240507T073807Z
DESCRIPTION:Simon Inou wird den Teilnehmer_innen des Workshops helfen ihre
  Projekte als Podcast zu realisieren\, indem er eine Einführung in die be
 wusste Nutzung von Medien und Radioprogrammen anbietet\, um intersektional
 e Narrative zu schaffen und es zu ermöglichen\, Privilegien zu überdenke
 n und aufzuheben\, die kein Segen sind\, sondern eher verdeckte Hinderniss
 e\, um zukünftige Linearitäten zu schaffen.
LAST-MODIFIED:20240802T102212Z
URL:https://www.akbild.ac.at/de/museum-und-ausstellungen/Exhibit/ausstellu
 ngen-veranstaltungen/aktuelle-ausstellungen/2024/soundscapes-of-intersecti
 onal-encounters-1/simon-inou-x-course-participants
END:VEVENT
BEGIN:VTIMEZONE
TZID:Europe/Vienna
X-LIC-LOCATION:Europe/Vienna
BEGIN:DAYLIGHT
DTSTART:20240331T030000
TZNAME:CEST
TZOFFSETFROM:+0100
TZOFFSETTO:+0200
END:DAYLIGHT
END:VTIMEZONE
END:VCALENDAR
