BEGIN:VCALENDAR
VERSION:2.0
PRODID:-//Plone.org//NONSGML plone.app.event//EN
X-WR-TIMEZONE:Europe/Vienna
BEGIN:VEVENT
SUMMARY:Soundscapes Kuratorinnen-Führung
DTSTART;TZID=Europe/Vienna:20240502T160000
DTEND;TZID=Europe/Vienna:20240502T173000
DTSTAMP:20260425T030717Z
UID:d51e982dff0d4ce68bccd3d496a8f4c5@www.akbild.ac.at
CREATED:20240320T090753Z
DESCRIPTION:Die drei Lehrenden und Pädagoginnen\, Kuratorinnen und Künst
 lerinnen: Janine Jembere\, Zehra Baraçkılıç und Ruby Sircar werden üb
 er Stimmen\, Klänge\, Musik\, Texte und die Schaffung hörbarer Texte spr
 echen\, sie diskutieren die Möglichkeiten der Vermittlung von Emotionen a
 ls akademische Techniken und akzeptieren\, dass die Didaktik immer noch ko
 lonisiert ist - wie kann man sie ändern? Und ist es möglich\, nicht-line
 are Erzählungen zu lehren?
LAST-MODIFIED:20240802T102212Z
URL:https://www.akbild.ac.at/de/museum-und-ausstellungen/Exhibit/ausstellu
 ngen-veranstaltungen/aktuelle-ausstellungen/2024/soundscapes-of-intersecti
 onal-encounters-1/soundscapes-kuratorinnen-fuehrung
END:VEVENT
BEGIN:VTIMEZONE
TZID:Europe/Vienna
X-LIC-LOCATION:Europe/Vienna
BEGIN:DAYLIGHT
DTSTART:20240331T030000
TZNAME:CEST
TZOFFSETFROM:+0100
TZOFFSETTO:+0200
END:DAYLIGHT
END:VTIMEZONE
END:VCALENDAR
