BEGIN:VCALENDAR
VERSION:2.0
PRODID:-//Plone.org//NONSGML plone.app.event//EN
X-WR-TIMEZONE:Europe/Vienna
BEGIN:VEVENT
SUMMARY:Soundscapes of Intersectional Encounters: Exploring Identity Throu
 gh Sound
DTSTART;TZID=Europe/Vienna:20240314T180000
DTEND;TZID=Europe/Vienna:20240314T220000
DTSTAMP:20260423T202311Z
UID:905d8f331d76407490b3ccc4818ead60@www.akbild.ac.at
CATEGORIES:Vorträge / Veranstaltungen
CREATED:20240207T120948Z
DESCRIPTION:Das Ausstellungs- und Bildungsprojekt Soundscapes of Intersect
 ional Encounters: Exploring Identity Through Sound befasst sich mit der Pr
 oduktion von Klängen - von populären und künstlerischen Musikproduktion
 en bis hin zu mündlichen Erzählungen - die für Diasporas und intersekti
 onale Gemeinschaften identitätsstiftend sind.
LAST-MODIFIED:20240802T102212Z
URL:https://www.akbild.ac.at/de/museum-und-ausstellungen/Exhibit/ausstellu
 ngen-veranstaltungen/aktuelle-ausstellungen/2024/soundscapes-of-intersecti
 onal-encounters-1/soundscapes-of-intersectional-encounters
END:VEVENT
BEGIN:VTIMEZONE
TZID:Europe/Vienna
X-LIC-LOCATION:Europe/Vienna
BEGIN:STANDARD
DTSTART:20231029T020000
TZNAME:CET
TZOFFSETFROM:+0200
TZOFFSETTO:+0100
END:STANDARD
END:VTIMEZONE
END:VCALENDAR
