BEGIN:VCALENDAR
VERSION:2.0
PRODID:-//Plone.org//NONSGML plone.app.event//EN
X-WR-TIMEZONE:Europe/Vienna
BEGIN:VEVENT
SUMMARY:Radikale Stärke – Resilienz & Care als künstlerische Haltung
DTSTART;TZID=Europe/Vienna:20251009T180000
DTSTAMP:20260423T180118Z
UID:c430f40de6e545ca810edcc96656aacb@www.akbild.ac.at
CATEGORIES:Vorträge / Veranstaltungen
CREATED:20250904T092520Z
DESCRIPTION:Jannik Franzen\, Anna Spanlang\, Sofie Thorsen und Andrea Zabr
 ic im Gespräch mit Ingeborg Erhart und Barbara Pflanzner\, im Rahmen de
 r Ausstellung Care – zwischen Zärtlichkeit und Widerstand.
LAST-MODIFIED:20250918T121151Z
URL:https://www.akbild.ac.at/de/museum-und-ausstellungen/Exhibit/ausstellu
 ngen-veranstaltungen/aktuelle-ausstellungen/2025/care-zwischen-zaertlichke
 it-und-widerstand/radikale-staerke
END:VEVENT
BEGIN:VTIMEZONE
TZID:Europe/Vienna
X-LIC-LOCATION:Europe/Vienna
BEGIN:DAYLIGHT
DTSTART:20250330T030000
TZNAME:CEST
TZOFFSETFROM:+0100
TZOFFSETTO:+0200
END:DAYLIGHT
END:VTIMEZONE
END:VCALENDAR
