BEGIN:VCALENDAR
VERSION:2.0
PRODID:-//Plone.org//NONSGML plone.app.event//EN
X-WR-TIMEZONE:Europe/Vienna
BEGIN:VEVENT
SUMMARY:Ausstellungsrundgang mit den Kunstauskünften der Exhibit Galerie
DTSTART;TZID=Europe/Vienna:20251205T150000
DTSTAMP:20260423T084857Z
UID:e3b8e3f669fa4711877283544676cb38@www.akbild.ac.at
CATEGORIES:Führungen / Veranstaltungen
CREATED:20251124T131535Z
DESCRIPTION:Die Kunstauskünfte geben im Rahmen einer Führung Einblicke i
 n die Ausstellung  Suck My Code.
LAST-MODIFIED:20251124T135515Z
URL:https://www.akbild.ac.at/de/museum-und-ausstellungen/Exhibit/ausstellu
 ngen-veranstaltungen/aktuelle-ausstellungen/2025/suck-my-code/ausstellungs
 rundgang-mit-den-kunstauskuenften-der-exhibit-galerie
END:VEVENT
BEGIN:VTIMEZONE
TZID:Europe/Vienna
X-LIC-LOCATION:Europe/Vienna
BEGIN:STANDARD
DTSTART:20251026T020000
TZNAME:CET
TZOFFSETFROM:+0200
TZOFFSETTO:+0100
END:STANDARD
END:VTIMEZONE
END:VCALENDAR
