BEGIN:VCALENDAR
VERSION:2.0
PRODID:-//Plone.org//NONSGML plone.app.event//EN
X-WR-TIMEZONE:Europe/Vienna
BEGIN:VEVENT
SUMMARY:Filmvorführung [em]Another Body[/em] (Sophie Compton/Reuben Hamly
 n)
DTSTART;TZID=Europe/Vienna:20251216T173000
DTSTAMP:20260423T084858Z
UID:b39357441b1f436a9f405da68dd14673@www.akbild.ac.at
CATEGORIES:Vorträge / Veranstaltungen
CREATED:20250925T132534Z
DESCRIPTION:Vorstellung des Films Another Body (Sophie Compton/Reuben Ham
 lyn\, 2023\, 80 Min.) im Rahmen der Ausstellung SUCK MY CODE!ACHTUNG NEUE 
 UHRZEIT! Jetzt 17:30 h statt 20 h
LAST-MODIFIED:20251125T140348Z
URL:https://www.akbild.ac.at/de/museum-und-ausstellungen/Exhibit/ausstellu
 ngen-veranstaltungen/aktuelle-ausstellungen/2025/suck-my-code/filmvorfuehr
 ung-another-body
END:VEVENT
BEGIN:VTIMEZONE
TZID:Europe/Vienna
X-LIC-LOCATION:Europe/Vienna
BEGIN:STANDARD
DTSTART:20251026T020000
TZNAME:CET
TZOFFSETFROM:+0200
TZOFFSETTO:+0100
END:STANDARD
END:VTIMEZONE
END:VCALENDAR
