BEGIN:VCALENDAR
VERSION:2.0
PRODID:-//Plone.org//NONSGML plone.app.event//EN
X-WR-TIMEZONE:Europe/Vienna
BEGIN:VEVENT
SUMMARY:Kuratorinnenführung [em]SUCK MY CODE![/em] iZ von Vienna Art Week
DTSTART;TZID=Europe/Vienna:20251108T140000
DTEND;TZID=Europe/Vienna:20251108T150000
DTSTAMP:20260423T101409Z
UID:fa9acbda557b4e93b4ed0a03f11f286f@www.akbild.ac.at
CATEGORIES:Vorträge / Veranstaltungen
CREATED:20250925T132248Z
DESCRIPTION:Passend zum diesjährigen Thema „Learning Systems” der Vie
 nna Art Week 2025 schauen wir uns die Wissens- und Wirtschaftssysteme rund
  um ausgewählte Kunstwerke an. Gemeinsam wollen wir uns fragen\, welche V
 orstellungen über Körperlichkeit im digitalen Raum wir dabei (ent)lernen
  möchten.
LAST-MODIFIED:20251117T154445Z
URL:https://www.akbild.ac.at/de/museum-und-ausstellungen/Exhibit/ausstellu
 ngen-veranstaltungen/aktuelle-ausstellungen/2025/suck-my-code/kuratorinnen
 fuehrung-em-suck-my-code-em-iz-von-vienna-art-week
END:VEVENT
BEGIN:VTIMEZONE
TZID:Europe/Vienna
X-LIC-LOCATION:Europe/Vienna
BEGIN:STANDARD
DTSTART:20251026T020000
TZNAME:CET
TZOFFSETFROM:+0200
TZOFFSETTO:+0100
END:STANDARD
END:VTIMEZONE
END:VCALENDAR
