BEGIN:VCALENDAR
VERSION:2.0
PRODID:-//Plone.org//NONSGML plone.app.event//EN
X-WR-TIMEZONE:Europe/Vienna
BEGIN:VEVENT
SUMMARY:Kurator_innen-Führungen durch die Ausstellung | Rosa Arbeit auf g
 oldener Straße
DTSTART;TZID=Europe/Vienna:20130125T160000
DTSTAMP:20260422T193419Z
UID:3253ad5ac2c6e238d498701a556700d5@www.akbild.ac.at
CATEGORIES:Vorträge / Veranstaltungen
CREATED:20220312T113256Z
DESCRIPTION:Termine:\n \n Do\, 22.11.2012\, 18.00 h\n \n Fr\, 14.12.2012\,
  16.00 h\n \n Fr\, 25.01.2013\, 16.00 h
LAST-MODIFIED:20240802T102247Z
URL:https://www.akbild.ac.at/de/museum-und-ausstellungen/Exhibit/ausstellu
 ngen-veranstaltungen/termine/2013/akbild_event.2012-11-19.2486648881
END:VEVENT
BEGIN:VTIMEZONE
TZID:Europe/Vienna
X-LIC-LOCATION:Europe/Vienna
BEGIN:STANDARD
DTSTART:20121028T020000
TZNAME:CET
TZOFFSETFROM:+0200
TZOFFSETTO:+0100
END:STANDARD
END:VTIMEZONE
END:VCALENDAR
