BEGIN:VCALENDAR
VERSION:2.0
PRODID:-//Plone.org//NONSGML plone.app.event//EN
X-WR-TIMEZONE:Europe/Vienna
BEGIN:VEVENT
SUMMARY:Salon Privé
DTSTART;TZID=Europe/Vienna:20160109T190000
DTSTAMP:20260421T124038Z
UID:bf2705687821a20e50c48a35983fc37c@www.akbild.ac.at
CATEGORIES:Vorträge / Veranstaltungen
CREATED:20220312T113447Z
DESCRIPTION:Vermittlungsprogramm im Rahmen der Ausstellung\n \n \n \n  Auf
 gerissenen Auges: Transmanieristische Reaktionen\n \n von 20.11. - 10.01.2
 016 im xhibit.
LAST-MODIFIED:20240802T102243Z
URL:https://www.akbild.ac.at/de/museum-und-ausstellungen/Exhibit/ausstellu
 ngen-veranstaltungen/termine/2016/aufgerissenen-auges-transmanieristische-
 reaktionen
END:VEVENT
BEGIN:VTIMEZONE
TZID:Europe/Vienna
X-LIC-LOCATION:Europe/Vienna
BEGIN:STANDARD
DTSTART:20151025T020000
TZNAME:CET
TZOFFSETFROM:+0200
TZOFFSETTO:+0100
END:STANDARD
END:VTIMEZONE
END:VCALENDAR
