BEGIN:VCALENDAR
VERSION:2.0
PRODID:-//Plone.org//NONSGML plone.app.event//EN
X-WR-TIMEZONE:Europe/Vienna
BEGIN:VEVENT
SUMMARY:L-Stadt: Dem Vertreiber der Jüdinnen und Juden aus Wien
DTSTART;TZID=Europe/Vienna:20191205T150000
DTSTAMP:20260423T145344Z
UID:4a1475d16025b394b78f211f4bcebfa3@www.akbild.ac.at
CATEGORIES:Vorträge / Veranstaltungen
CREATED:20220312T113536Z
DESCRIPTION:L-Stadt: Dem Vertreiber der Jüdinnen und Juden aus Wien\n  \n
  \n \, Workshop zum 2. Bezirk mit Eduard Freudmann\n \n Vermittlungsprogra
 mm im Rahmen der Ausstellung\n \n  Spezialschule für Bildhauerei (bis 14.
 12.2019).
LAST-MODIFIED:20240802T102243Z
URL:https://www.akbild.ac.at/de/museum-und-ausstellungen/Exhibit/ausstellu
 ngen-veranstaltungen/termine/2019/spezialschule-fuer-bildhauerei-kurator_i
 nnenfuehrung-durch-die-ausstellung
END:VEVENT
BEGIN:VTIMEZONE
TZID:Europe/Vienna
X-LIC-LOCATION:Europe/Vienna
BEGIN:STANDARD
DTSTART:20191027T020000
TZNAME:CET
TZOFFSETFROM:+0200
TZOFFSETTO:+0100
END:STANDARD
END:VTIMEZONE
END:VCALENDAR
