BEGIN:VCALENDAR
VERSION:2.0
PRODID:-//Plone.org//NONSGML plone.app.event//EN
X-WR-TIMEZONE:Europe/Vienna
BEGIN:VEVENT
SUMMARY:Opening Events: Einrichtung und Gegebenheit. Infrastruktur als For
 m und Handlung
DTSTART;TZID=Europe/Vienna:20220308T180000
DTSTAMP:20260425T003849Z
UID:4bb28c5875338e9a8cc159d34b23e911@www.akbild.ac.at
CATEGORIES:Vorträge / Veranstaltungen
CREATED:20220312T113741Z
DESCRIPTION:Am 8.3.2022 eröffnet die Ausstellung  Einrichtung und Gegeben
 heit. Infrastruktur als Form und Handlung  in der Exhibit Galerie und dem 
 Exhibit Eschenbachgasse.
LAST-MODIFIED:20240802T102238Z
URL:https://www.akbild.ac.at/de/museum-und-ausstellungen/Exhibit/ausstellu
 ngen-veranstaltungen/termine/2022/opening-events-einrichtung-und-gegebenhe
 it.-infrastruktur-als-form-und-handlung
END:VEVENT
BEGIN:VTIMEZONE
TZID:Europe/Vienna
X-LIC-LOCATION:Europe/Vienna
BEGIN:STANDARD
DTSTART:20211031T020000
TZNAME:CET
TZOFFSETFROM:+0200
TZOFFSETTO:+0100
END:STANDARD
END:VTIMEZONE
END:VCALENDAR
