BEGIN:VCALENDAR
VERSION:2.0
PRODID:-//Plone.org//NONSGML plone.app.event//EN
X-WR-TIMEZONE:Europe/Vienna
BEGIN:VEVENT
SUMMARY:Über Malerei: Schnitt im Bild
DTSTART;TZID=Europe/Vienna:20221013T190000
DTSTAMP:20260421T152613Z
UID:0e8fb4064b9946b7ab4c68d7a447ab66@www.akbild.ac.at
CATEGORIES:Vorträge / Veranstaltungen
CREATED:20220929T075806Z
DESCRIPTION:Über Malerei ist eine Gesprächsreihe die vom Fachbereich abs
 trakte Malerei erstmals 2013 initiert wurde und in der zeitgenössische Ma
 lerei ausschließlich anhand von Originalen mit Studierenden\, Alumnis\, L
 ehrenden und Gästen diskutiert wird.
LAST-MODIFIED:20240802T102238Z
URL:https://www.akbild.ac.at/de/museum-und-ausstellungen/Exhibit/ausstellu
 ngen-veranstaltungen/termine/2022/ueber-malerei-schnitt-im-bild
END:VEVENT
BEGIN:VTIMEZONE
TZID:Europe/Vienna
X-LIC-LOCATION:Europe/Vienna
BEGIN:DAYLIGHT
DTSTART:20220327T030000
TZNAME:CEST
TZOFFSETFROM:+0100
TZOFFSETTO:+0200
END:DAYLIGHT
END:VTIMEZONE
END:VCALENDAR
