BEGIN:VCALENDAR
VERSION:2.0
PRODID:-//Plone.org//NONSGML plone.app.event//EN
X-WR-TIMEZONE:Europe/Vienna
BEGIN:VEVENT
SUMMARY:Falling Asleep
DTSTART;TZID=Europe/Vienna:20230427T170000
DTSTAMP:20260422T005144Z
UID:4b86a3eb7bc0437b92b07b5e26df71c7@www.akbild.ac.at
CATEGORIES:Vorträge / Veranstaltungen
CREATED:20230324T122313Z
DESCRIPTION:Bewegungslabor mit Esther Balfe und Alba Glatz\, Sophie Hoffma
 nn\, Su Huber\, Anna Jablonski\, Paul Kraml\, Esther Lottes\, Betty Pester
 \, Elia Zahnd\, Anna Zesakes\, Sound composition by Jung An TagenIn Korres
 pondenz mit Sonia Antoranz Contera\, Monica Gagliano\, Vicki Kirby\, Tom L
 amarre\, Vlad Vyazovskiy.
LAST-MODIFIED:20240802T102238Z
URL:https://www.akbild.ac.at/de/museum-und-ausstellungen/Exhibit/ausstellu
 ngen-veranstaltungen/termine/2023/falling-asleep
END:VEVENT
BEGIN:VTIMEZONE
TZID:Europe/Vienna
X-LIC-LOCATION:Europe/Vienna
BEGIN:DAYLIGHT
DTSTART:20230326T030000
TZNAME:CEST
TZOFFSETFROM:+0100
TZOFFSETTO:+0200
END:DAYLIGHT
END:VTIMEZONE
END:VCALENDAR
