BEGIN:VCALENDAR
VERSION:2.0
PRODID:-//Plone.org//NONSGML plone.app.event//EN
X-WR-TIMEZONE:Europe/Vienna
BEGIN:VEVENT
SUMMARY:Das Fotostudio
DTSTART;VALUE=DATE:20211003
DTEND;VALUE=DATE:20211025
DTSTAMP:20260423T145118Z
UID:31b0ff0885be4680becfccea6591b52b@www.akbild.ac.at
CREATED:20240104T100238Z
DESCRIPTION:Ein Projekt im Rahmen des Schwerpunkts Akademie | Kunst | Öff
 entlichkeit an der Akademie der bildenden Künste Wien.
LAST-MODIFIED:20240802T102257Z
URL:https://www.akbild.ac.at/de/museum-und-ausstellungen/akademie-kunst-oe
 ffentlichkeit/projekte/2021/das-fotostudio
END:VEVENT
END:VCALENDAR
