BEGIN:VCALENDAR
VERSION:2.0
PRODID:-//Plone.org//NONSGML plone.app.event//EN
X-WR-TIMEZONE:Europe/Vienna
BEGIN:VEVENT
SUMMARY:(re)claiming our bodies in the city
DTSTART;VALUE=DATE:20220708
DTEND;VALUE=DATE:20220711
DTSTAMP:20260423T180450Z
UID:f6108a65f0844242ba090fd43b981807@www.akbild.ac.at
CATEGORIES:Vorträge / Veranstaltungen
CREATED:20220512T093759Z
DESCRIPTION:Ein Schwarzer Spaziergang durch Wien.
LAST-MODIFIED:20240802T102257Z
URL:https://www.akbild.ac.at/de/museum-und-ausstellungen/akademie-kunst-oe
 ffentlichkeit/projekte/2022/reclaiming-our-bodies-in-the-city
END:VEVENT
END:VCALENDAR
