BEGIN:VCALENDAR
VERSION:2.0
PRODID:-//Plone.org//NONSGML plone.app.event//EN
X-WR-TIMEZONE:Europe/Vienna
BEGIN:VEVENT
SUMMARY:Platz nehmen #3: Right of Passage – Wegerecht
DTSTART;TZID=Europe/Vienna:20241024T160000
DTEND;TZID=Europe/Vienna:20241024T180000
DTSTAMP:20260423T180106Z
UID:67998813d08b4ad688cd6419032ab3de@www.akbild.ac.at
CATEGORIES:Vorträge / Veranstaltungen
CREATED:20240813T075239Z
DESCRIPTION:Eine Veranstaltungsreihe am Schillerplatz von Akademie | Kunst
  | Öffentlichkeit.\nMit einer Communal Walking Experience von und mit Ham
 ish Fulton\, einer Lecture des Philosophen Jens Badura und Beiträgen von 
 Studierenden der Bildenden Kunst.
LAST-MODIFIED:20250918T080622Z
URL:https://www.akbild.ac.at/de/museum-und-ausstellungen/akademie-kunst-oe
 ffentlichkeit/projekte/2024/platz-nehmen-3-right-of-passage-wegerecht
END:VEVENT
BEGIN:VTIMEZONE
TZID:Europe/Vienna
X-LIC-LOCATION:Europe/Vienna
BEGIN:DAYLIGHT
DTSTART:20240331T030000
TZNAME:CEST
TZOFFSETFROM:+0100
TZOFFSETTO:+0200
END:DAYLIGHT
END:VTIMEZONE
END:VCALENDAR
