BEGIN:VCALENDAR
VERSION:2.0
PRODID:-//Plone.org//NONSGML plone.app.event//EN
X-WR-TIMEZONE:Europe/Vienna
BEGIN:VEVENT
SUMMARY:TABLEAU VIVANT. Der König in Frauenkleidern
DTSTART;VALUE=DATE:20130423
DTEND;VALUE=DATE:20130902
DTSTAMP:20260420T135447Z
UID:f46f71976edfd4e837b8abdec1fbea76@www.akbild.ac.at
CATEGORIES:Ausstellungen
CREATED:20220312T141922Z
DESCRIPTION:In einer einmaligen Zusammenschau werden die filmische Arbeit 
 TABLEAU VIVANT und ihre historische Bildvorlage Seite an Seite in der Gem
 äldegalerie der Akademie der bildenden Künste Wien gezeigt.
LAST-MODIFIED:20240802T102304Z
URL:https://www.akbild.ac.at/de/museum-und-ausstellungen/kunstsammlungen/a
 ktuelles/gemaeldegalerie/ausstellungen/2013/akbild_event.2013-05-21.857528
 4880
END:VEVENT
END:VCALENDAR
