BEGIN:VCALENDAR
VERSION:2.0
PRODID:-//Plone.org//NONSGML plone.app.event//EN
X-WR-TIMEZONE:Europe/Vienna
BEGIN:VEVENT
SUMMARY:BOSCH\, REMBRANDT\, RUBENS\, TIZIAN\, VAN DYCK | Neupräsentation 
 der Schausammlung
DTSTART;TZID=Europe/Vienna:20171107T190000
DTSTAMP:20260425T135832Z
UID:37527bdb371c1d158f4824e60e779b26@www.akbild.ac.at
CREATED:20220312T142009Z
DESCRIPTION:Mit einer Neuaufstellung der Sammlung ist die Gemäldegalerie 
 ab Herbst  2017 im Theatermuseum zu Gast – vorübergehend für ca. drei 
 Jahre während  der Bestandssanierung des Akademiegebäudes am Schillerpla
 tz.
LAST-MODIFIED:20240802T102308Z
URL:https://www.akbild.ac.at/de/museum-und-ausstellungen/kunstsammlungen/a
 ktuelles/gemaeldegalerie/ausstellungen/2017/bosch-rembrandt-rubens-tizian-
 van-dyck-neupraesentation-der-schausammlung/SubEvent
END:VEVENT
BEGIN:VTIMEZONE
TZID:Europe/Vienna
X-LIC-LOCATION:Europe/Vienna
BEGIN:STANDARD
DTSTART:20171029T020000
TZNAME:CET
TZOFFSETFROM:+0200
TZOFFSETTO:+0100
END:STANDARD
END:VTIMEZONE
END:VCALENDAR
